BEGIN:VCALENDAR
VERSION:2.0
PRODID:-//Tukios.com/
BEGIN:VEVENT
UID:4707792c-5a51-4606-8c4d-dd0f6378b624@www.bpharveyfuneralhome.com
DTSTAMP:20260421T173619Z
DTSTART:20260424T210000Z
DTEND:20260425T000000Z
SUMMARY:Visitation
DESCRIPTION:The family will greet friends from 4-7 pm
URL:https://www.bpharveyfuneralhome.com/obituaries/mary-gail-keller
LOCATION: 1408 8th Ave  Plattsmouth NE 68048
GEO:41.0031097;-95.8956195
END:VEVENT
END:VCALENDAR