BEGIN:VCALENDAR
VERSION:2.0
PRODID:-//Tukios.com/
BEGIN:VEVENT
UID:1f6b7542-2bdc-4eb0-b8da-f0e20690117d@www.bpharveyfuneralhome.com
DTSTAMP:20260421T174317Z
DTSTART:20260425T153000Z
DTEND:20260425T163000Z
SUMMARY:Funeral Service
DESCRIPTION:
URL:https://www.bpharveyfuneralhome.com/obituaries/mary-gail-keller
LOCATION:Living Water Church 1623 South 15th Street  Plattsmouth NE 68048
GEO:40.9970755;-95.895947
END:VEVENT
END:VCALENDAR