BEGIN:VCALENDAR
VERSION:2.0
PRODID:-//Tukios.com/
BEGIN:VEVENT
UID:6bfaf3e5-7c76-497f-b007-d34f11c5906f@www.bpharveyfuneralhome.com
DTSTAMP:20260421T174452Z
DTSTART:20260425T183000Z
DTEND:20260425T193000Z
SUMMARY:Graveside Service
DESCRIPTION:
URL:https://www.bpharveyfuneralhome.com/obituaries/mary-gail-keller
LOCATION:Oak Hill Cemetery 149 Oak Hill Road  Plattsmouth NE 68048
GEO:41.0101007;-95.9132364
END:VEVENT
END:VCALENDAR